BEGIN:VCALENDAR
VERSION:2.0
PRODID:-//jEvents 2.0 for Joomla//EN
CALSCALE:GREGORIAN
METHOD:PUBLISH
BEGIN:VTIMEZONE
TZID:Europe/Berlin
BEGIN:STANDARD
DTSTART:20311030T230000
RDATE:20320328T030000
TZOFFSETFROM:+0200
TZOFFSETTO:+0100
TZNAME:Europe/Berlin CET
END:STANDARD
END:VTIMEZONE
BEGIN:VEVENT
UID:14f88fe35154a76fc78a3a62ec41c6a0
CATEGORIES:imp_Geburtstage
CREATED:20170609T165704
SUMMARY:Geburtstag von Vanilla Ice (1968)
DESCRIPTION:
DTSTAMP:20260420T031144
DTSTART;TZID=Europe/Berlin;VALUE=DATE:20321031
DTEND;TZID=Europe/Berlin;VALUE=DATE:20321101
SEQUENCE:0
TRANSP:OPAQUE
END:VEVENT
END:VCALENDAR