BEGIN:VCALENDAR
VERSION:2.0
PRODID:-//jEvents 2.0 for Joomla//EN
CALSCALE:GREGORIAN
METHOD:PUBLISH
BEGIN:VTIMEZONE
TZID:Europe/Berlin
BEGIN:STANDARD
DTSTART:20311026T230000
RDATE:20320328T030000
TZOFFSETFROM:+0200
TZOFFSETTO:+0100
TZNAME:Europe/Berlin CET
END:STANDARD
END:VTIMEZONE
BEGIN:VEVENT
UID:58e4a95aead5cc22db26bf5224f51d3d
CATEGORIES:imp_Geburtstage
CREATED:20170609T165703
SUMMARY:Geburtstag von Kenneth K.K. Downing (Judas Priest) (1951)
DESCRIPTION:
DTSTAMP:20260420T031154
DTSTART;TZID=Europe/Berlin;VALUE=DATE:20321027
DTEND;TZID=Europe/Berlin;VALUE=DATE:20321028
SEQUENCE:0
TRANSP:OPAQUE
END:VEVENT
END:VCALENDAR