BEGIN:VCALENDAR
VERSION:2.0
PRODID:-//jEvents 2.0 for Joomla//EN
CALSCALE:GREGORIAN
METHOD:PUBLISH
BEGIN:VTIMEZONE
TZID:Europe/Berlin
BEGIN:STANDARD
DTSTART:20311026T020000
RDATE:20320328T030000
TZOFFSETFROM:+0200
TZOFFSETTO:+0100
TZNAME:Europe/Berlin CET
END:STANDARD
BEGIN:DAYLIGHT
DTSTART:20311014T000000
RDATE:20311026T020000
TZOFFSETFROM:+0100
TZOFFSETTO:+0200
TZNAME:Europe/Berlin CEST
END:DAYLIGHT
END:VTIMEZONE
BEGIN:VEVENT
UID:cb02a20273f1a3ad1a7f3927bc8464ff
CATEGORIES:imp_Geburtstage
CREATED:20170609T165702
SUMMARY:Geburtstag von A.J. Pero (Twisted Sister) (1959)
DESCRIPTION:
DTSTAMP:20260421T220834
DTSTART;TZID=Europe/Berlin;VALUE=DATE:20321014
DTEND;TZID=Europe/Berlin;VALUE=DATE:20321015
SEQUENCE:0
TRANSP:OPAQUE
END:VEVENT
END:VCALENDAR