BEGIN:VCALENDAR
VERSION:2.0
PRODID:-//jEvents 2.0 for Joomla//EN
CALSCALE:GREGORIAN
METHOD:PUBLISH
BEGIN:VTIMEZONE
TZID:Europe/Berlin
BEGIN:STANDARD
DTSTART:20311026T020000
RDATE:20320328T030000
TZOFFSETFROM:+0200
TZOFFSETTO:+0100
TZNAME:Europe/Berlin CET
END:STANDARD
BEGIN:DAYLIGHT
DTSTART:20310610T000000
RDATE:20311026T020000
TZOFFSETFROM:+0100
TZOFFSETTO:+0200
TZNAME:Europe/Berlin CEST
END:DAYLIGHT
END:VTIMEZONE
BEGIN:VEVENT
UID:0d6667cd7c1e2f1f6176f1cd445d32dc
CATEGORIES:News
CREATED:20170531T133037
SUMMARY:Geburtstag von Judy Garland † (US-amerikanische Filmschauspielerin und Sängerin / 10. Juni 1922)
DESCRIPTION:
DTSTAMP:20260420T134115
DTSTART;TZID=Europe/Berlin;VALUE=DATE:20320610
DTEND;TZID=Europe/Berlin;VALUE=DATE:20320611
SEQUENCE:0
TRANSP:OPAQUE
END:VEVENT
END:VCALENDAR